BEGIN:VCALENDAR
VERSION:2.0
PRODID:-//hacksw/handcal//NONSGML v1.0//EN
BEGIN:VEVENT
DTSTART:20230920T100000
DTEND:20230920T130000
LOCATION:Université Bordeaux Montaigne Hall Administratif
ORGANIZER;CN=MELISSA LACOMBE:MAILTO:melissa.lacombe@u-bordeaux-montaigne.fr
SUMMARY:Job Dating de la rentrée 2023
DESCRIPTION:Mercredi 20 septembre et jeudi 21 septembre 2023 de 10h à 13h dans le  hall administratifVenez rencontrer les entreprises recruteuses et candidatez à plus de 500 contrats étudiants proposés Mercredi...
URL:https://alumni.u-bordeaux-montaigne.fr/fr/event/job-dating-de-la-rentree-2023/2023/09/20/46
BEGIN:VALARM
TRIGGER:-P0DT1H0M0S
ACTION:DISPLAY
END:VALARM
END:VEVENT
END:VCALENDAR