BEGIN:VCALENDAR
VERSION:2.0
PRODID:-//hacksw/handcal//NONSGML v1.0//EN
BEGIN:VEVENT
DTSTART:20260522T100000
DTEND:20260523T200000
LOCATION:Université Bordeaux Montaigne Plaine de Bardanac \n33600
ORGANIZER;CN=MELISSA LACOMBE:MAILTO:melissa.lacombe@u-bordeaux-montaigne.fr
SUMMARY:Festival Refuge 2ème édition
DESCRIPTION:Le jardin associatif, La Cuvée des Ecolos a le plaisir de vous convier à sa 2ème édition de son temps fort printanier : le Festival Refuge, les vendredi 22 et samedi 23 mai. Tout en douceur et poésie,...
URL:https://alumni.u-bordeaux-montaigne.fr/fr/event/festival-refuge-2eme-edition/2026/05/22/211
BEGIN:VALARM
TRIGGER:-P0DT1H0M0S
ACTION:DISPLAY
END:VALARM
END:VEVENT
END:VCALENDAR