BEGIN:VCALENDAR
VERSION:2.0
PRODID:-//hacksw/handcal//NONSGML v1.0//EN
BEGIN:VEVENT
DTSTART:20260413T110000
DTEND:20260506T235500
LOCATION:Le Garage Moderne \n176 Rue Achard \n33300 Bordeaux
ORGANIZER;CN=Bénédicte Palmaro:MAILTO:benedicte.palmaro@u-bordeaux-montaigne.fr
SUMMARY:APPEL A PARTICIPATION Tremplin du Garage Moderne Fête de la musique de Bordeaux 20 juin 2026
DESCRIPTION:Depuis 1982, la Fête de la musique fait de nos villes les théâtres de grandes fêtes populaires réunissant amateurs et professionnels autour d’un élan, d’une passion et d’une multitude de pratiques...
URL:https://alumni.u-bordeaux-montaigne.fr/fr/event/appel-a-participation-tremplin-du-garage-moderne-fete-de-la-musique-de-bordeaux-20-juin-2026/2026/04/13/210
BEGIN:VALARM
TRIGGER:-P0DT1H0M0S
ACTION:DISPLAY
END:VALARM
END:VEVENT
END:VCALENDAR