BEGIN:VCALENDAR
VERSION:2.0
PRODID:-//hacksw/handcal//NONSGML v1.0//EN
BEGIN:VEVENT
DTSTART:20260518T090000
DTEND:20260625T200000
LOCATION:https://www.u-bordeaux-montaigne.fr/fr/actualites/formation/action-fle-affinez-votre-maitrise-du-francais.html
ORGANIZER;CN=MELISSA LACOMBE:MAILTO:melissa.lacombe@u-bordeaux-montaigne.fr
SUMMARY:"Action FLE" : affinez votre maîtrise du français
DESCRIPTION:Pour toutes celles et ceux qui maîtrisent déjà le français, mais qui veulent aller plus loin, Action FLE (Français Langue étrangère), est une formation intensive en ligne synchrone conçue pour les...
URL:https://alumni.u-bordeaux-montaigne.fr/fr/event/-action-fle-affinez-votre-maitrise-du-francais/2026/05/18/198
BEGIN:VALARM
TRIGGER:-P0DT1H0M0S
ACTION:DISPLAY
END:VALARM
END:VEVENT
END:VCALENDAR