BEGIN:VCALENDAR
VERSION:2.0
PRODID:-//hacksw/handcal//NONSGML v1.0//EN
BEGIN:VEVENT
DTSTART:20260302T230000
DTEND:20260317T000000
LOCATION:Université Bordeaux Montaigne
ORGANIZER;CN=Ilana Heineberg - Formations Portugais:MAILTO:Ilana.Heineberg@u-bordeaux-montaigne.fr
SUMMARY:10e Cycle de cinéma latino-américain Bordeaux Montaigne
DESCRIPTION:Exposition, conférences, rencontres et cinq projections gratuites pour les étudiants de l'Université !Plus d'information...
URL:https://alumni.u-bordeaux-montaigne.fr/fr/group/formations-portugais/79/calendar/10e-cycle-de-cinema-latino-americain-bordeaux-montaigne/2026/03/02/187
BEGIN:VALARM
TRIGGER:-P0DT1H0M0S
ACTION:DISPLAY
END:VALARM
END:VEVENT
END:VCALENDAR