BEGIN:VCALENDAR
VERSION:2.0
PRODID:-//hacksw/handcal//NONSGML v1.0//EN
BEGIN:VEVENT
DTSTART:20260210T173000
DTEND:20260210T193000
LOCATION:Amphi B200 - Université Bordeaux Montaigne \nEsplanade des Antilles - Université bordeaux Montaigne \n33600 PESSAC
ORGANIZER;CN=MELISSA LACOMBE:MAILTO:melissa.lacombe@u-bordeaux-montaigne.fr
SUMMARY:les Rencontres Professionnelles : métiers de l'événementiel
DESCRIPTION:Vous êtes intéressé.e.s par le milieu de l'événementiel ? Rendez-vous ce mardi 10 février à 17h30 en amphi B 200 dans le cadre des Rencontres Professionnelles. Nous serons ravies...
URL:https://alumni.u-bordeaux-montaigne.fr/fr/event/les-rencontres-professionnelles-metiers-de-l-evenementiel/2026/02/10/178
BEGIN:VALARM
TRIGGER:-P0DT1H0M0S
ACTION:DISPLAY
END:VALARM
END:VEVENT
END:VCALENDAR