BEGIN:VCALENDAR
VERSION:2.0
PRODID:-//hacksw/handcal//NONSGML v1.0//EN
BEGIN:VEVENT
DTSTART:20251126T173000
DTEND:20251126T200000
LOCATION:Université Bordeaux Montaigne  \nAmphi 3 \n33600 pessac
ORGANIZER;CN=MELISSA LACOMBE:MAILTO:melissa.lacombe@u-bordeaux-montaigne.fr
SUMMARY:Les Rencontres Professionnelles Ces métiers qui accompagnent la création - Ingénierie culturelle - Littérature - Cinéma - Spectacle vivant - Musique
DESCRIPTION:Vous êtes intéressé.e.s par le milieu professionnel de la Culture ? Nous serons ravi.e.s d’accueillir 4 anciennes étudiantes diplômées de notre université qui travaillent dans l'accompagnement des...
URL:https://alumni.u-bordeaux-montaigne.fr/fr/event/les-rencontres-professionnelles-ces-metiers-qui-accompagnent-la-creation-ingenierie-culturelle-litterature-cinema-spectacle-vivant-musique/2025/11/26/159
BEGIN:VALARM
TRIGGER:-P0DT1H0M0S
ACTION:DISPLAY
END:VALARM
END:VEVENT
END:VCALENDAR