BEGIN:VCALENDAR
VERSION:2.0
PRODID:-//hacksw/handcal//NONSGML v1.0//EN
BEGIN:VEVENT
DTSTART:20250417T160000
DTEND:20250417T170000
LOCATION:INP Bordeaux
ORGANIZER;CN=Sarah Michel:MAILTO:sarah.michel@u-bordeaux-montaigne.fr
SUMMARY:L'Esprit d'entreprendre - Evénement de clôture
DESCRIPTION:Etudiant.es Université Bordeaux Montaigne (ex - Bordeaux 3) intéressé.es par l'entrepreneuriat, réservez votre jeudi 17 apm pour vous joindre à nous à l'INP!Au programme, 2 tables rondes, des stands...
URL:https://alumni.u-bordeaux-montaigne.fr/fr/event/l-esprit-d-entreprendre-evenement-de-cloture/2025/04/17/140
BEGIN:VALARM
TRIGGER:-P0DT1H0M0S
ACTION:DISPLAY
END:VALARM
END:VEVENT
END:VCALENDAR