BEGIN:VCALENDAR
VERSION:2.0
PRODID:-//hacksw/handcal//NONSGML v1.0//EN
BEGIN:VEVENT
DTSTART:20250218T173000
DTEND:20250218T193000
LOCATION:Amphi B200 - Université Bordeaux Montaigne \nEsplanade des Antilles - Université bordeaux Montaigne \n33600 PESSAC
ORGANIZER;CN=Jeanne Arloing:MAILTO:jeanne.arloing@u-bordeaux-montaigne.fr
SUMMARY:Les Rencontres Professionnelles métiers de la Fonction publique et de l'Administration
DESCRIPTION:Les Rencontres Professionnelles Métiers de la Fonction Publique et de l'administrationMis à jour le 11 février 2025Lors de cette édition dédiée aux métiers de la Fonction Publique et de...
URL:https://alumni.u-bordeaux-montaigne.fr/fr/event/les-rencontres-professionnelles-metiers-de-la-fonction-publique-et-de-l-administration/2025/02/18/120
BEGIN:VALARM
TRIGGER:-P0DT1H0M0S
ACTION:DISPLAY
END:VALARM
END:VEVENT
END:VCALENDAR